BEGIN:VCALENDAR
VERSION:2.0
PRODID:-//Stadtgeschichte München//DE
CALSCALE:GREGORIAN
BEGIN:VEVENT
UID:12358@stadtgeschichte-muenchen.de
SUMMARY:Haidhausen * Dort wo es bogenhauserisch ist
DESCRIPTION:&amp;lt;p&amp;gt;Aus der „Haidhauser Armen- und Krankenversorgungsanstalt“ entwickelte sich die „Universitätsklinik rechts der Isar“.&amp;lt;br /&amp;gt; Die Klinik wurde nicht aus einem GUSS erbaut, sondern war ein Stückwerk.&amp;lt;/p&amp;gt; &amp;lt;p&amp;gt;Das Maximilianeum in den Maximiliansanlagen wurde ursprünglich als Eliteschule und Gemäldegalerie erbaut; heute tagt darin der Bayerische Landtag.&amp;lt;/p&amp;gt; &amp;lt;p&amp;gt;Weiter nördlich wollte König Ludwig II. durch Gottfried Semper ein Theater für die Werke Richard Wagners erbauen lassen.&amp;lt;/p&amp;gt; &amp;lt;p&amp;gt;Franz von Stuck, Eduard von Grützner und andere errichteten hier ihre Künstlervillen.&amp;amp;nbsp;&amp;lt;/p&amp;gt;
DTSTART:20170906T103000
DTEND:20170906T000000
LOCATION:MVHS Bildungszentrum * Einsteinstraße 28 * Raum x.xxx
ORGANIZER:Münchner Zeitensprünge
END:VEVENT
END:VCALENDAR