BEGIN:VCALENDAR
VERSION:2.0
PRODID:-//Stadtgeschichte München//DE
CALSCALE:GREGORIAN
BEGIN:VEVENT
UID:12360@stadtgeschichte-muenchen.de
SUMMARY:Die nördliche Au * Papier, Haderlumpen &amp; Seide
DESCRIPTION:&amp;lt;p&amp;gt;Bei diesem Stadtteil-Spaziergang befassen wir uns mit den Lebens und Arbeitsbedingungen der Auer Bevölkerung bis hinein ins 21. Jahrhundert.&amp;amp;nbsp;&amp;lt;/p&amp;gt; &amp;lt;p&amp;gt;Hier arbeitete 555 Jahre lang Deutschlands älteste Papiermühle, aus der das erste &amp;quot;Technische Museum&amp;quot; Deutschlands entstehen sollte. Zur &amp;quot;Auer Papierfabrik&amp;quot; gehörte aber auch die &amp;quot;Gilde der Hadern- und Lumpensammler&amp;quot;.&amp;amp;nbsp;&amp;lt;/p&amp;gt; &amp;lt;p&amp;gt;Hier befand sich eine &amp;quot;Seidenfabrik&amp;quot; sowie eine &amp;quot;Wollwerk-Fabricca&amp;quot;, die 2.000 Menschen Beschäftigung bot und aus der später das &amp;quot;Militärische Arbeitshaus&amp;quot; hervorging. Dorthin schoben die Münchner ihre Bettler ab und trugen damit zum schlechten Ruf der Au bei. Hier gab es aber auch die &amp;quot;Rumford-Suppe&amp;quot;, mit der die Kartoffel in Oberbaiern seinen Siegeszug antrat.&amp;amp;nbsp;&amp;lt;/p&amp;gt; &amp;lt;p&amp;gt;Viele bekannte Münchner sind in der Au geboren worden, einer davon war Karl Valentin. In seinem Geburtshaus karossierte der Designer Ludwig Weinberger einen der weltweit sechs &amp;quot;Bugatti Royale&amp;quot;.&amp;amp;nbsp;&amp;lt;/p&amp;gt;
DTSTART:20170815T110000
DTEND:20170815T133000
LOCATION:Museum-Lichtspiele * Lilienstraße 2
ORGANIZER:Münchner Zeitensprünge
END:VEVENT
END:VCALENDAR