BEGIN:VCALENDAR
VERSION:2.0
PRODID:-//Stadtgeschichte München//DE
CALSCALE:GREGORIAN
BEGIN:VEVENT
UID:12369@stadtgeschichte-muenchen.de
SUMMARY:Haidhausen * Leben und Arbeiten
DESCRIPTION:
DTSTART:20170305T143000
DTEND:20170305T160000
LOCATION:MVHS-Bildungszentrum Einstein 28 * Einsteinstraße 28 * Foyer
ORGANIZER:Münchner Zeitensprünge
END:VEVENT
END:VCALENDAR