BEGIN:VCALENDAR
VERSION:2.0
PRODID:-//Stadtgeschichte München//DE
CALSCALE:GREGORIAN
BEGIN:VEVENT
UID:12390@stadtgeschichte-muenchen.de
SUMMARY:Das Wiesenviertel: Nicht nur beim Oktoberfest belebt
DESCRIPTION:&lt;p&gt;Das Wiesenviertel gehört zu den gelungensten Stadterweiterungen Münchens. Dort entstanden in der zweiten Hälfte des 19. Jahrhunderts rund um die Oktoberfest- wiese und um die neugotische Paulskirche besonders prachtvolle Wohnhäuser in allen damals modernen Stilrichtungen, noch aufwendiger waren die Villen am Bavariaring wurden, die allerdings zugunsten von Neubauten dezimiert worden sind. Die aufgelockerte Bauweise bietet eine bei heutigen Neuplanungen kaum noch zu findende Lebensqualität, die aber - wie überall in München - durch aktuelle Nachverdichtungsbetrebungen besonders gefährdet ist. Während der letzten Jahrzehnte wurden viele dieser Bauten abgerissen, aufgestockt oder bis zur Unkenntlichkeit „renoviert&quot;, trotzdem sind manche Straßenzüge bis heute immer noch sehenswert.&lt;/p&gt; 
DTSTART:20170505T140000
DTEND:20170505T160000
LOCATION:U-Bahn Station Theresienwiese, Ausgang zur Theresienwiese
ORGANIZER:DGB-Bildungswerk Bayern e.V. Region München
END:VEVENT
END:VCALENDAR