BEGIN:VCALENDAR
VERSION:2.0
PRODID:-//Stadtgeschichte München//DE
CALSCALE:GREGORIAN
BEGIN:VEVENT
UID:12392@stadtgeschichte-muenchen.de
SUMMARY:Gern - eine Münchner Gartenstadt
DESCRIPTION:&lt;p&gt;Der Stadtteil Gern mit seinen Reihenhäusern und Villen in Formen eines&amp;nbsp;heimattümlichen Jugendstils gehört zu den begehrtesten Wohnvierteln Münchens. Gegen Ende des 19. Jahrhunderts nach den Vorbildern englischer Gartenstädte konzipiert, wurden die Parzellen von der Terraingesellschaft Heilmann &amp;amp; Littmann an Architekten oder auch direkt an bauwillige Interessenten verkauft. Der erschlossene Baugrund kostete&amp;nbsp;damals ca. 21 Mark pro Quadratmeter. Ein Werbeprospekt versprach&amp;nbsp;auch „Künstlerheime&quot; und so wurden einige Atelierhäuser errichtet.&amp;nbsp;Von den ausführenden Architekten sind vor allem Paul Böhmer und der&amp;nbsp;Sohn des Erbauers der Bayerischen Königschlösser, Rudolf Hoffmann zu&amp;nbsp;nennen, die eine Neuentdeckung wert sind.&lt;/p&gt; 
DTSTART:20170122T140000
DTEND:20170122T160000
LOCATION:U-Bahnstation B	Gern (U1); Tizian-/Ecke Waisenhausstraße 
ORGANIZER:DGB-Bildungswerk Bayern e.V. Region München
END:VEVENT
END:VCALENDAR