BEGIN:VCALENDAR
VERSION:2.0
PRODID:-//Stadtgeschichte München//DE
CALSCALE:GREGORIAN
BEGIN:VEVENT
UID:12393@stadtgeschichte-muenchen.de
SUMMARY:Die Maxvorstadt - das kulturelle Zentrum Münchens
DESCRIPTION:&lt;p&gt;Bei der Maxvorstadt handelt es sich um eine sehr frühe, planmäßige Stadterweiterung, initiiert von König Max I. Joseph ab 1805. Sein Sohn Ludwig l. ließ gegen große Widerstände&amp;nbsp;die Ludwigstraße, den Königsplatz, die Glyptothek und die Alte Pinakothek erbauen. Später folgten die Neue Pinakothek und erst vor einigen Jahren die Pinakothek der Moderne. Auch&amp;nbsp;zwei Konzertsäle gab es, das Odeon am gleichnamigen Platz und die Tonhalle in der Türkenstraße; beide wurden im Krieg zerstört. Die Universität und die ehemalige Technische&amp;nbsp;Hochschule (heute ebenfalls Universität) prägten ebenso wie die Kunstakademie, die aus ganz Europa zuziehende Wohnbevölkerung: Künstler und Gelehrte. Von der ursprünglichen&amp;nbsp;Bebauung sind nur wenige Reste erhalten, Historismus und Jungendstil prägten das Straßenbild bis 1945. Bauten wie der Führerbau und das Parteigebäude (heute die Musikhochschule&amp;nbsp;und Zen-tralinsititut für Kunstgeschichte) repräsentieren beim Königsplatz das III. Reich. Nach argen Kriegszerstörungen überwiegen die schlichten Bauten der fünfziger Jahre.&lt;/p&gt; &lt;p&gt;&amp;nbsp;&lt;/p&gt; 
DTSTART:20170129T140000
DTEND:20170129T160000
LOCATION:Eingangstor zum Hofgarten (Odeonsplatz)
ORGANIZER:DGB-Bildungswerk Bayern e.V. Region München
END:VEVENT
END:VCALENDAR