BEGIN:VCALENDAR
VERSION:2.0
PRODID:-//Stadtgeschichte München//DE
CALSCALE:GREGORIAN
BEGIN:VEVENT
UID:1242@stadtgeschichte-muenchen.de
SUMMARY:Von Kunst im Bunker zum Wohnen im Turm
DESCRIPTION:&lt;p&gt;Von dem ehemaligen achteckigen fensterlosen Luftschutzturm an der Claude-Lorrain-Stra&amp;szlig;e blieb nur ein Teil der Au&amp;szlig;enmauern &amp;uuml;brig. 1941 errichtet, stand er zun&amp;auml;chst 63 Jahre leer. Heute steht hier ein lichtdurchfluteter&amp;nbsp; Wohnturm mit Appartments auf mehreren Ebenen, der mit seiner oktogonalen Grundform &amp;ndash; wie ein Leuchtturm auf&lt;br /&gt; einer Insel &amp;ndash; den markanten und harmonischen Abschluss des s&amp;uuml;dlich angrenzenden gro&amp;szlig;en, dreieckigen, unbebauten&amp;nbsp; Stadtg&amp;auml;rtnereigel&amp;auml;ndes bildet. Vor der endg&amp;uuml;ltigen Verwandlung wurde aber zun&amp;auml;chst das Projekt &amp;bdquo;Kunst im Bunker&amp;ldquo; realisiert, bei dem der K&amp;uuml;nstler Christoph Nicolaus beteiligt war. Inzwischen &amp;bdquo;Turmbewohner&amp;ldquo;, wird er an diesem Abend von der Umnutzung erz&amp;auml;hlen, von seinem aktuellen Projekt &amp;bdquo;Klang im Turm&amp;ldquo; und zum Schluss seine Steinharfe zum Klingen bringen.&lt;/p&gt;
DTSTART:20111026T180000
DTEND:20111026T193000
LOCATION:Wohnbunker Giesing Â· Claude-Lorrain-Str. 26
ORGANIZER:MVHS München Mitte   
END:VEVENT
END:VCALENDAR