BEGIN:VCALENDAR
VERSION:2.0
PRODID:-//Stadtgeschichte München//DE
CALSCALE:GREGORIAN
BEGIN:VEVENT
UID:12428@stadtgeschichte-muenchen.de
SUMMARY:Die Frauenkirche - Geschichten um Münchens Wahrzeichen
DESCRIPTION:&lt;p&gt;Eine Führung durch den Münchner Dom, in dem es nicht nur um die Bauge- schichte und die vielen Kunstschätze in seinem Inneren geht, sondern auch um die schönen und manchmal auch schaurigen alten Geschichten, die sich um Mün- chens Wahrzeichen ranken. Ob Teufel und Wind, Sankt-Benno-Legende oder das traurige Schicksal des jungen Freifräuleins von Ickstatt: Der Sagenfundus ist uner- schöpflich.&lt;/p&gt; 
DTSTART:20170117T100000
DTEND:20170117T113000
LOCATION:Frauenplatz 12, vor dem Haupteingang
ORGANIZER:DGB-Bildungswerk Bayern e.V. Region München
END:VEVENT
END:VCALENDAR