BEGIN:VCALENDAR
VERSION:2.0
PRODID:-//Stadtgeschichte München//DE
CALSCALE:GREGORIAN
BEGIN:VEVENT
UID:1243@stadtgeschichte-muenchen.de
SUMMARY:Blumenschmuck in München â€“ was steckt dahinter?
DESCRIPTION:&lt;p&gt;Blumenschmuck ist die Visitenkarte der St&amp;auml;dte und Gemeinden und tr&amp;auml;gt zur Lebensqualit&amp;auml;t ihrer B&amp;uuml;rgerinnen und B&amp;uuml;rger bei. Das Baureferat Gartenbau der Landeshauptstadt M&amp;uuml;nchen setzt daher gro&amp;szlig;es Engagement in die st&amp;auml;dtischen Schmuckpflanzungen. S&amp;auml;mtliche Pflanzen f&amp;uuml;r den M&amp;uuml;nchner Blumenschmuck werden in den st&amp;auml;dtischen Kulturg&amp;auml;rtnereien herangezogen. Schon im Januar laufen die Vorbereitungen f&amp;uuml;r die Fr&amp;uuml;hjahrs- und Sommerbepflanzungen auf Hochtouren. Diese F&amp;uuml;hrung zeigt, was Jahr f&amp;uuml;r Jahr getan werden muss, bevor in M&amp;uuml;nchen alles gr&amp;uuml;nt und bl&amp;uuml;ht.&lt;/p&gt;
DTSTART:20120202T150000
DTEND:20120202T163000
LOCATION:Eingang, Sachsenstr. 9 (Nähe Schyrenbad) Â·
ORGANIZER:MVHS München Mitte   
END:VEVENT
END:VCALENDAR