BEGIN:VCALENDAR
VERSION:2.0
PRODID:-//Stadtgeschichte München//DE
CALSCALE:GREGORIAN
BEGIN:VEVENT
UID:12438@stadtgeschichte-muenchen.de
SUMMARY:Der Jahresrückblick
DESCRIPTION:
DTSTART:20170106T110000
DTEND:20170106T133000
LOCATION:KiM-Kino im Einstein Kultur, Einsteinstraße 42 * München-Haidhausen (neben Unionsbräu)
ORGANIZER:Münchner Zeitensprünge
END:VEVENT
END:VCALENDAR