BEGIN:VCALENDAR
VERSION:2.0
PRODID:-//Stadtgeschichte München//DE
CALSCALE:GREGORIAN
BEGIN:VEVENT
UID:1244@stadtgeschichte-muenchen.de
SUMMARY:Caritas-Werkstatt München: Produkte für Industrie und Handel
DESCRIPTION:&lt;p&gt;In der Einrichtung nahe der Wittelsbacher Br&amp;uuml;cke arbeiten mehr als 130 geistig und mehrfach behinderte Erwachsene, sowie 20 psychisch Kranke. Ausbildung und Arbeit sind f&amp;uuml;r Menschen mit Behinderung ein wichtiger integraler Bestandteil ihres Alltags, der hilft, die eigene Pers&amp;ouml;nlichkeit zu entfalten, das Eigen- und Selbstwertgef&amp;uuml;hl zu st&amp;auml;rken und soziale Kontakte zu kn&amp;uuml;pfen. Angeleitet und betreut werden die Werkstattbesch&amp;auml;ftigten &amp;ndash; unter Ber&amp;uuml;cksichtigung der individuellen F&amp;auml;hig- und Fertigkeiten &amp;ndash; von einem Team qualifizierter und engagierter Fachkr&amp;auml;fte. Eine Reihe tagesstrukturierender Angebote erg&amp;auml;nzt das Programm. F&amp;uuml;r die Produktion der Waren gelten die gleichen Anforderungen und Kriterien, die an jeden Produktionsbetrieb gestellt werden, wie Qualit&amp;auml;t der Erzeugnisse, Zuverl&amp;auml;ssigkeit und Pr&amp;auml;zision in der Auftragsabwicklung.&lt;/p&gt;
DTSTART:20111109T140000
DTEND:20111109T153000
LOCATION:Caritas-Werkstätte für behinderte Menschen Â· Humboldtstr. 2a 
ORGANIZER:MVHS München Mitte   
END:VEVENT
END:VCALENDAR