BEGIN:VCALENDAR
VERSION:2.0
PRODID:-//Stadtgeschichte München//DE
CALSCALE:GREGORIAN
BEGIN:VEVENT
UID:12444@stadtgeschichte-muenchen.de
SUMMARY:Von den Beatles zu den Rolling Stones
DESCRIPTION:&lt;p&gt;Herbi Hauke, der Direktor des Münchner Rock-Museums im Olympiaturm erzählt über seine Erlebnisse mit den internationalen Pop-Stars.&amp;nbsp;&lt;/p&gt; &lt;p&gt;&amp;nbsp;&lt;/p&gt; 
DTSTART:20170618T110000
DTEND:20170618T133000
LOCATION:KiM-Kino im Einstein Kultur, Einsteinstraße 42 * München-Haidhausen (neben Unionsbräu)
ORGANIZER:Münchner Zeitensprünge
END:VEVENT
END:VCALENDAR