BEGIN:VCALENDAR
VERSION:2.0
PRODID:-//Stadtgeschichte München//DE
CALSCALE:GREGORIAN
BEGIN:VEVENT
UID:1248@stadtgeschichte-muenchen.de
SUMMARY:Orgelbauwerkstatt Hubertus Graf Kerssenbrock
DESCRIPTION:&lt;p&gt;Hubertus Graf Kerssenbrock ist seit &amp;uuml;ber 55 Jahren Orgelbauer. In dieser Zeit hat er Orgeln in weiten Teilen Europas gebaut, umgebaut und bedeutende historische Orgeln restauriert. Die Werkstatt, in der auch einige historische Orgeln und Orgelteile besichtigt werden k&amp;ouml;nnen, befindet sich im f&amp;uuml;nfhundert Jahre alten Schweindlhof, in dem auch regelm&amp;auml;&amp;szlig;ig Kulturveranstaltungen stattfinden und dessen Gel&amp;auml;nde ein besonderes Naturerlebnis bietet. Begonnen wird die Veranstaltung mit einer Filmvorf&amp;uuml;hrung &amp;uuml;ber die Orgelbauwerkstatt im B&amp;uuml;rgerhaus R&amp;ouml;merschanz. Von dort begibt sich die Gruppe gemeinsam zum Schweindlhof.&lt;/p&gt; &lt;p&gt;F&amp;uuml;r Senior(inn)en&lt;/p&gt;
DTSTART:20111013T140000
DTEND:20111013T163000
LOCATION:Bürgerhaus Römerschanz Â· Dr.-Max-Str. 1 
ORGANIZER:MVHS München Mitte   
END:VEVENT
END:VCALENDAR