BEGIN:VCALENDAR
VERSION:2.0
PRODID:-//Stadtgeschichte München//DE
CALSCALE:GREGORIAN
BEGIN:VEVENT
UID:12501@stadtgeschichte-muenchen.de
SUMMARY:Reinkarnation eines Märtyrers aus Sandstein und Bleiweiß
DESCRIPTION:&lt;p&gt;Christoph Sabatzki stellt in seinem Vortrag die Arbeiten zur Konservierung und Restaurierung an einer besonderen Skulptur vor: die in Sandstein gearbeitete Figur eines Märtyrers schmückt eine Hausfassade in Gaukönigshofen im Lkr. Würzburg. Sie war stark geschädigt, als sie in die Werkstätten des BLfD kam. Aufwendige Untersuchungen zeigten den Weg zur Erhaltung der farbig gefassten Skulptur auf, die inzwischen wieder an ihren Standort zurückgekehrt ist.&lt;/p&gt; &lt;p&gt;Die Vortragsreihe ist eine Kooperation des Bayerischen Landesamtes für Denkmalpflege mit der Münchner Volkshochschule (MVHS) und der Gesellschaft für Archäologie in Bayern e. V.&lt;/p&gt; 
DTSTART:20170313T190000
DTEND:20170313T000000
LOCATION:Säulenhalle der Alten Münze,  Hofgraben 4, 80539 München
ORGANIZER:Bayerisches Landesamt für Denkmalpflege
END:VEVENT
END:VCALENDAR