BEGIN:VCALENDAR
VERSION:2.0
PRODID:-//Stadtgeschichte München//DE
CALSCALE:GREGORIAN
BEGIN:VEVENT
UID:12502@stadtgeschichte-muenchen.de
SUMMARY:Gräber, Galgen und Gebäck
DESCRIPTION:&lt;p&gt;Das im Bau befindliche Museum der Bayerischen Geschichte am Regensburger Donauufer steht auf einem geschichtsträchtigen Grund: Spuren spätrömischer Gräber, einer 1000 Jahre alten Holzbebauung, Hinweise auf Eisenverarbeitung, der Fund des ältesten bekannten Galgens, der ältesten Breze und viele weitere Erkenntnisse machten diese Grabung für Archäologen besonders spannend.&lt;/p&gt; &lt;p&gt;Die Vortragsreihe ist eine Kooperation des Bayerischen Landesamtes für Denkmalpflege mit der Münchner Volkshochschule (MVHS) und der Gesellschaft für Archäologie in Bayern e. V.&lt;/p&gt; 
DTSTART:20170320T190000
DTEND:20170320T000000
LOCATION:Säulenhalle der Alten Münze,  Hofgraben 4, 80539 München
ORGANIZER:Bayerisches Landesamt für Denkmalpflege
END:VEVENT
END:VCALENDAR