BEGIN:VCALENDAR
VERSION:2.0
PRODID:-//Stadtgeschichte München//DE
CALSCALE:GREGORIAN
BEGIN:VEVENT
UID:12503@stadtgeschichte-muenchen.de
SUMMARY:Dendrochronologie in Bayern
DESCRIPTION:&lt;p&gt;Die Dendrochronologie bestimmt das Fälldatum von Holz jahrgenau – sie ist eine wichtige Hilfswissenschaft der Bau- und Hausforschung. Ältere Analysen berücksichtigten oft nicht, dass Bauholz häufig über weite Strecken transportiert wurde: Woher das Bauholz kam, ist bei seiner Datierung jedoch von zentraler Bedeutung. Neue Verfahren zur Rekonstruktion der Höhenstandorte von Bäumen erlauben Aussagen zur Herkunft des Holzes. Gerade für Untersuchungen von beweglichem Kulturgut ist dies von großer Bedeutung.&lt;/p&gt; &lt;p&gt;Die Vortragsreihe ist eine Kooperation des Bayerischen Landesamtes für Denkmalpflege mit der Münchner Volkshochschule (MVHS) und der Gesellschaft für Archäologie in Bayern e. V.&lt;/p&gt; 
DTSTART:20170327T190000
DTEND:20170327T000000
LOCATION:Säulenhalle der Alten Münze,  Hofgraben 4, 80539 München
ORGANIZER:Bayerisches Landesamt für Denkmalpflege
END:VEVENT
END:VCALENDAR