BEGIN:VCALENDAR
VERSION:2.0
PRODID:-//Stadtgeschichte München//DE
CALSCALE:GREGORIAN
BEGIN:VEVENT
UID:12504@stadtgeschichte-muenchen.de
SUMMARY:Wissenschaft als Kunst – das Physikalische Kabinett des Jean-Antoine Nollet
DESCRIPTION:&lt;p&gt;Das wissenschaftliche Experiment spielte im 18. Jahrhundert eine große Rolle. Zur anschaulichen Demonstration physikalischer Phänomena wurde ein eigenes Instrumentarium entwickelt, zu dem Prismen und Linsen ebenso wie Kegel auf der Schiefen Ebene, die „Leidener Flasche“ oder der „elektrische Kuss“ zählten. Von den Pioniertagen einer noch jungen Wissenschaft kündet bis heute das Physikalische Kabinett des Geistlichen und ersten französischen Professors für Experimentalphysik, Jean-Antoine Nollet.&lt;/p&gt; 
DTSTART:20161229T180000
DTEND:20161229T190000
LOCATION:Kassenraum
ORGANIZER:Bayerisches Nationalmuseum
END:VEVENT
END:VCALENDAR