BEGIN:VCALENDAR
VERSION:2.0
PRODID:-//Stadtgeschichte München//DE
CALSCALE:GREGORIAN
BEGIN:VEVENT
UID:12509@stadtgeschichte-muenchen.de
SUMMARY:Sie haben einen Herzinfarkt und rufen die 112
DESCRIPTION:&lt;p&gt;Wir besichtigen im Klinikum Bogenhausen die dortige Notarztwache und sehen die Ausrüstung des dort stationierten Notarzteinsatzfahrzeugs. Sie lernen die Strukturen und die technische Ausstattung des Münchner Rettungsdienstes kennen. Selbstverständlich werden alle Fragen, die Sie zu diesem Thema immer schon mal stellen wollten, beantwortet. Vortrag: Dr. Richard Fisch&lt;/p&gt; &lt;p&gt;Treffpunkt: Klinikum Bogenhausen, Haupteingang, Information im EG &amp;gt; erreichbar mit U4 - Arabellapark &amp;gt; Dauer ca. 21/2 Stunden&lt;/p&gt; 
DTSTART:20170313T173000
DTEND:20170313T200000
LOCATION:Klinikum Bogenhausen, Haupteingang, Information im EG
ORGANIZER:DGB-Bildungswerk Bayern e.V. Region München
END:VEVENT
END:VCALENDAR