BEGIN:VCALENDAR
VERSION:2.0
PRODID:-//Stadtgeschichte München//DE
CALSCALE:GREGORIAN
BEGIN:VEVENT
UID:12511@stadtgeschichte-muenchen.de
SUMMARY:Besuch beim Geigenbaumeister
DESCRIPTION:&lt;p&gt;Kaum bekannt aber wahr. Der Bau von Saiteninstrumenten hat seit dem Jahre 1496 Tradition in München. Der Geigenbaumeister Stefan Wörz erklärt die&amp;nbsp;Fertigung eines Streichinstrumentes vom Baum bis zum klin- | genden Endprodukt und zeigt die notwendigen Werkzeuge und natürlich I verschiedenen Geigen.&lt;/p&gt; &lt;p&gt;Begrenzte Teilnehmerzahl! Wenn diese erreicht ist, ist keine Teilnahme mehr möglich.&lt;/p&gt; 
DTSTART:20170410T100000
DTEND:20170410T113000
LOCATION:Kreittmayrstr. 11
ORGANIZER:DGB-Bildungswerk Bayern e.V. Region München
END:VEVENT
END:VCALENDAR