BEGIN:VCALENDAR
VERSION:2.0
PRODID:-//Stadtgeschichte München//DE
CALSCALE:GREGORIAN
BEGIN:VEVENT
UID:1252@stadtgeschichte-muenchen.de
SUMMARY:Zu Gast in der Produktionsgärtnerei des Gartencenters Seebauer
DESCRIPTION:&lt;p&gt;In der modernen G&amp;auml;rtnerei in Unterbiberg werden das ganze Jahr viele verschiedenen Blumen und Pflanzen in bester Qualit&amp;auml;t f&amp;uuml;r das Gartencenter Seebauer produziert. Die F&amp;uuml;hrung gew&amp;auml;hrt einen Einblick in die einzelnen Produktionsabl&amp;auml;ufe und in die Entwicklungsstufen, die Pflanzen durchlaufen, bis sie ihre typische F&amp;auml;rbung und Leuchtkraft erhalten. In den Gew&amp;auml;chsh&amp;auml;usern wartet bereits ein (Weihnachts-)Sternenmeer auf die Besucher(innen). Au&amp;szlig;erdem erl&amp;auml;utern G&amp;auml;rtner vor Ort die besonderen Qualit&amp;auml;tsmerkmale dieses traditionsreichen Familienunternehmens. &lt;/p&gt; &lt;p&gt;Reduzierte Anmeldegeb&amp;uuml;hr, daf&amp;uuml;r freut sich die&amp;nbsp; Produktionsg&amp;auml;rtnerei &amp;uuml;ber eine geringe Spende f&amp;uuml;r den Verein &amp;bdquo;Freunde der Waisenkinder&amp;ldquo;.&lt;/p&gt;
DTSTART:20111018T150000
DTEND:20111018T170000
LOCATION:Produktionsgärtnerei (Gartencenter Seebauer) Â· Schönwetterstr. 1 (Unterbiberg) 
ORGANIZER:MVHS München Mitte   
END:VEVENT
END:VCALENDAR