BEGIN:VCALENDAR
VERSION:2.0
PRODID:-//Stadtgeschichte München//DE
CALSCALE:GREGORIAN
BEGIN:VEVENT
UID:12533@stadtgeschichte-muenchen.de
SUMMARY:Die Abwasserkanäle in Münchens Untergrund
DESCRIPTION:&lt;p&gt;Seit dem Mittelalter ist Hygiene die wichtigste Aufgabe der Stadtentwässerung und seit über 100 Jahren werden unter den Straßen der Stadt Kanäle gebaut und unterhalten. Heute durchqueren bereits 2434 km Kanäle den „Bauch&quot; Münchens. Grund genug, sich auf einer zweiteiligen Besichtigungstour Details zeigen und erklären zu lassen. Was macht das zuständige städtische Betreuungspersonal dort im Untergrund für das „Wohl&quot; der Münchner Bürger? 10 Uhr Besichtigung eines Kanals, ca. 11 Uhr Besichtigung des Regenrückhaltebeckens am Hirschgarten. Begleitung: Benjamin Tax, Münchner Stadtentwässerung. Wir bitten um Verständnis, dass bei starkem Unwetter (Platzregen, Gewitter) die Führung aus Sicherheitsgründen nicht stattfinden kann.&lt;/p&gt; 
DTSTART:20170609T093000
DTEND:20170609T120000
LOCATION:Waisenhausstraße/Ecke Klugstraße 
ORGANIZER:DGB-Bildungswerk Bayern e.V. Region München
END:VEVENT
END:VCALENDAR