BEGIN:VCALENDAR
VERSION:2.0
PRODID:-//Stadtgeschichte München//DE
CALSCALE:GREGORIAN
BEGIN:VEVENT
UID:1255@stadtgeschichte-muenchen.de
SUMMARY:Das Heizkraftwerk Nord
DESCRIPTION:&lt;p&gt;Das gigantische Heizkraftwerk Nord ist nicht allein f&amp;uuml;r die Fernw&amp;auml;rmeversorgung einer Gro&amp;szlig;stadt zust&amp;auml;ndig, sondern &amp;uuml;bernimmt auch die Aufgabe der M&amp;uuml;llverbrennung von bis zu siebzig Tonnen Hausm&amp;uuml;ll je Stunde. Bei der F&amp;uuml;hrung durch die Anlage werden die technischen Einzelheiten erkl&amp;auml;rt. Die Probleme, die diese Einrichtung f&amp;uuml;r den M&amp;uuml;nchner Nordosten aufwirft, wie z. B. der&amp;nbsp; Stickoxidaussto&amp;szlig;, die Schwefeldioxidemissionen sowie die L&amp;auml;rm- und Geruchsbel&amp;auml;stigung werden diskutiert.&lt;/p&gt; &lt;p&gt;Aus Sicherheitsgr&amp;uuml;nden k&amp;ouml;nnen keine Kinder an der F&amp;uuml;hrung teilnehmen. Festes Schuhwerk und ggf. wetterfeste Kleidung sind erforderlich; ein Teil der F&amp;uuml;hrung findet im Freien statt. Bitte beachten Sie, dass Fotografieren auf dem Gel&amp;auml;nde des Kraftwerkes nicht erlaubt ist.&lt;/p&gt;
DTSTART:20111024T131500
DTEND:20111024T161500
LOCATION:Heizkraftwerk Nord, Pforte West Â· Münchner Str. 22
ORGANIZER:MVHS München Mitte   
END:VEVENT
END:VCALENDAR