BEGIN:VCALENDAR
VERSION:2.0
PRODID:-//Stadtgeschichte München//DE
CALSCALE:GREGORIAN
BEGIN:VEVENT
UID:1256@stadtgeschichte-muenchen.de
SUMMARY:Zu Gast beim Bayerischen Fernsehen
DESCRIPTION:&lt;p&gt;Zu Gast beim Bayerischen Fernsehen: Studio Unterf&amp;ouml;hring &amp;Uuml;ber f&amp;uuml;nfzig Jahre alt ist Fernsehen in Bayern, mehr als vierzig Jahre hat das Bayerische Fernsehen &amp;bdquo;auf dem Buckel&amp;ldquo;. Und dennoch ist es so jung wie am ersten Tag. Daf&amp;uuml;r sind 365 Tage im Jahr unz&amp;auml;hlige&lt;br /&gt; Korrespondenten, Fernsehjournalisten, Redakteure, Moderatoren, Techniker und auch Handwerker im Dienst. Diesen k&amp;ouml;nnen Sie bei&lt;br /&gt; einem Besuch &amp;uuml;ber die Schulter oder zumindest auf den Arbeitsplatz schauen. Zu besichtigen sind: mindestens eines der rund 600 m2 gro&amp;szlig;en Fernsehstudios, die Regie, der Requisitenfundus und schlie&amp;szlig;lich die Bauhallen, wo s&amp;auml;mtliche B&amp;uuml;hnenbilder gefertigt werden.&lt;/p&gt;
DTSTART:20111201T170000
DTEND:20111201T183000
LOCATION:Bayerisches Fernsehen, Pforte Â· Rivastr. 1 
ORGANIZER:MVHS München Mitte   
END:VEVENT
END:VCALENDAR