BEGIN:VCALENDAR
VERSION:2.0
PRODID:-//Stadtgeschichte München//DE
CALSCALE:GREGORIAN
BEGIN:VEVENT
UID:12571@stadtgeschichte-muenchen.de
SUMMARY:Die Monacensia
DESCRIPTION:Im ehemaligen \"Hildebrand-Haus\" befindet sich seit dem Jahr 1977 die \"Monacensia-Bibliothek\".&nbsp; Nach umfangreichen Sanierungsarbeiten, die im Jahr 2013 begannen, wurde die München-Präsenz-Bücherei im Dezember 2016 wieder eröffnet.&nbsp; Bei der Führung geht es um die Geschichte des Hauses und seiner Bewohner.&nbsp; &nbsp; 
DTSTART:20170222T153000
DTEND:20170222T164500
LOCATION:Monacensia * Maria-Theresia-Straße 23 * München-Bogenhausen
ORGANIZER:Münchner Zeitensprünge
END:VEVENT
END:VCALENDAR