BEGIN:VCALENDAR
VERSION:2.0
PRODID:-//Stadtgeschichte München//DE
CALSCALE:GREGORIAN
BEGIN:VEVENT
UID:12573@stadtgeschichte-muenchen.de
SUMMARY:Juwel im Felsengarten – Schloss Neuschwanstein
DESCRIPTION:&lt;p&gt;Ludwig II. wünschte sich ein Domizil »im echten Styl der alten deutschen Ritterburgen«. Gleichzeitig bediente er sich der neuesten technischen Errungenschaften: Zischende Dampfkräne kamen zum Einsatz, genietete Stahlträger, industriell gefertigte Gusseisenteile. Am Ende hatte das Märchenschloss sogar einen Telefonanschluss. Die Psychiater konstatierten freilich, dass Neuschwanstein »mit seinen Unsummen von Zinnen und Türmchen« die Ausgeburt »eines kranken Gehirn« sei. Sie plädierten für die sofortige Entmündigung des Königs. Und so geschah es.&lt;/p&gt; 
DTSTART:20170113T180000
DTEND:20170113T000000
LOCATION:Gasteig EG, Raum 0117
ORGANIZER:MVHS München Mitte   
END:VEVENT
END:VCALENDAR