BEGIN:VCALENDAR
VERSION:2.0
PRODID:-//Stadtgeschichte München//DE
CALSCALE:GREGORIAN
BEGIN:VEVENT
UID:12579@stadtgeschichte-muenchen.de
SUMMARY:Effektiv bauen – kreative Nachverdichtung (Bustour)
DESCRIPTION:&lt;p&gt;Nachverdichtung ist in München ein wichtiges Thema geworden. Dies bezieht sich nicht nur auf die Aufstockung bestehender Gebäude, sondern auch auf die Entwicklung kreativer Lösungen auf Restflächen, etwa gefassten Innenhöfen. Besucht werden drei beispielhafte Projekte: die Wohnbebauung an der Braystraße im Hof einer Blockrandbebauung (Palais Mai), das erste innerstädtische Passivholzhaus an der Mainzer Straße (zillerplus Architekten und Stadtplaner) der GBW-Gruppe und die GWG-Wohnanlage an der Fernpaßstraße, die aufgestockt und um einen Neubau ergänzt wurde (Arge Kaufmann.Lichtblau.Architekten). Ende der Tour: U-Bahnstation &quot;Partnachplatz&quot; (U6).&lt;/p&gt; &lt;p&gt;Zur Teilnahme melden Sie sich bitte verbindlich an:&amp;nbsp;&lt;a href=&quot;mailto:plantreff@muenchen.de&quot;&gt;plantreff@muenchen.de&lt;/a&gt;&amp;nbsp;oder telefonisch unter 233-22942 (maximale Teilnehmerzahl pro Tour: 30 Personen)&lt;/p&gt; 
DTSTART:20170217T150000
DTEND:20170217T173000
LOCATION:U-Bahnstation „Prinzregentenplatz“ (U4), Bahnsteigmitte
ORGANIZER:Rathausgalerie | Kunsthalle
END:VEVENT
END:VCALENDAR