BEGIN:VCALENDAR
VERSION:2.0
PRODID:-//Stadtgeschichte München//DE
CALSCALE:GREGORIAN
BEGIN:VEVENT
UID:12580@stadtgeschichte-muenchen.de
SUMMARY:Wohnen innovativ: Eine Ideenfabrik
DESCRIPTION:&lt;p&gt;Querdenker und Ideengeber stellen ihre Lieblingsprojekte zum Wohnen vor. Im Mittelpunkt steht die Frage, was innovatives Bauen und Wohnen bedeuten kann.&lt;/p&gt; &lt;p&gt;Unter anderem mit: Susanne Flynn, Architektin, Aufsichtsrat KunstWohnWerke München eG Rainer Hofmann, Architekt, Stadtplaner und Büroinhaber bogevischs buero, München Klaus Illigmann, Stadtentwicklungsplanung, Referat für Stadtplanung und Bauordnung, München Gerda Peter, Geschäftsführerin GWG München Natalie Schaller, Projektleitung und Öffentlichkeitsarbeit Mitbauzentrale München Christiane Schmidt, Architektin, BeL Sozietät für Architektur BDA, Köln Anais Wiedenhöfer, Master-Absolventin Urban Design, HafenCity Universität Hamburg&lt;/p&gt; &lt;p&gt;Moderation: Anne Hogeback und Dina Straße, PlanTreff, Referat für Stadtplanung und Bauordnung, München&lt;/p&gt; 
DTSTART:20170117T190000
DTEND:20170117T000000
LOCATION:Rathausgalerie
ORGANIZER:Rathausgalerie | Kunsthalle
END:VEVENT
END:VCALENDAR