BEGIN:VCALENDAR
VERSION:2.0
PRODID:-//Stadtgeschichte München//DE
CALSCALE:GREGORIAN
BEGIN:VEVENT
UID:1259@stadtgeschichte-muenchen.de
SUMMARY:Das Münchner Mehrgenerationenhaus „Unter den Arkaden„
DESCRIPTION:&lt;p&gt;K&amp;ouml;nnen Mehrgenerationenh&amp;auml;user eine Antwort auf die demografische Entwicklung in Deutschland sein? Das Mehrgenerationenhaus f&amp;ouml;rdert soziale Kontakte und erm&amp;ouml;glicht den Besucher(inne)n aller Altersstufen, ein soziales Netz aufzubauen. Vielf&amp;auml;ltige Begegnungsm&amp;ouml;glichkeiten und das aktive Mitwirken an der Angebotsgestaltung wirken der Isolation in der Gro&amp;szlig;stadt entgegen. Senior(inn)en erfahren, dass sie gebraucht werden, z. B. bei den Lernpatenschaften. Nachbarschaftshilfe wird gest&amp;auml;rkt und vorhandene Hilfen werden leichter zug&amp;auml;nglich.&lt;/p&gt; &lt;p&gt;Angebote des Mehrgenerationenhauses sind z. B. sozialp&amp;auml;dagogische Lernhilfen, generationen&amp;uuml;bergreifende Patenschaften, Qualifizierungsprojekte f&amp;uuml;r Migrantinnen oder ein Internetcaf&amp;eacute;.&lt;/p&gt;
DTSTART:20120202T160000
DTEND:20120202T173000
LOCATION:Mehrgenerationenhaus München, Dientzenhoferstr. 68 
ORGANIZER:MVHS München Mitte   
END:VEVENT
END:VCALENDAR