BEGIN:VCALENDAR
VERSION:2.0
PRODID:-//Stadtgeschichte München//DE
CALSCALE:GREGORIAN
BEGIN:VEVENT
UID:1260@stadtgeschichte-muenchen.de
SUMMARY:Besuch der Türkisch-Islamischen Gemeinde e. V. in Milbertshofen
DESCRIPTION:&lt;p&gt;In der Moosacher Stra&amp;szlig;e in Milbertshofen befindet sich das t&amp;uuml;rkischislamische Kulturzentrum DITIB mit Veranstaltungsr&amp;auml;umen, Konferenzs&amp;auml;len und einer Moschee. Die t&amp;uuml;rkisch-islamische Gemeinde pflegt einen engen Kontakt zu den christlichen Kirchen St. Georg und Dankeskirche in Milbertshofen und ist mit vielen Aktivit&amp;auml;ten im Bereich Sport und bei sozialen Projekten in den Schulen im Stadtteil engagiert und integriert. Bei dieser F&amp;uuml;hrung wird das Wirken der &amp;auml;ltesten t&amp;uuml;rkisch-islamischen Gemeinde in Deutschland vorgestellt und die Moschee besichtigt.&lt;/p&gt; &lt;p&gt;Bitte beachten Sie, dass der Gebetsraum nicht mit Schuhen betreten werden darf.&lt;/p&gt;
DTSTART:20120204T140000
DTEND:20120204T160000
LOCATION:Türkisch-Islamische Gemeinde e. V. Â· Moosacher Str. 22
ORGANIZER:MVHS München Mitte   
END:VEVENT
END:VCALENDAR