BEGIN:VCALENDAR
VERSION:2.0
PRODID:-//Stadtgeschichte München//DE
CALSCALE:GREGORIAN
BEGIN:VEVENT
UID:1265@stadtgeschichte-muenchen.de
SUMMARY:Zwischenstation „Judensiedlung„
DESCRIPTION:&lt;p&gt;Im Fr&amp;uuml;hjahr 1941 mussten j&amp;uuml;dische Zwangsarbeiter auf Betreiben des Gauleiters Adolf Wagner im M&amp;uuml;nchner Stadtteil Milbertshofen ein Barackenlager f&amp;uuml;r Juden errichten. Diese sogenannte &amp;bdquo;Judensiedlung&amp;ldquo; war f&amp;uuml;r die M&amp;uuml;nchner Juden ein Ort des Terrors; hier wurden die meisten Deportationstransporte zusammengestellt. Anl&amp;auml;sslich des 70. Jahrestages der ersten Deportation aus M&amp;uuml;nchen am 20. November 1941 befasst sich der Vortrag mit der zentralen Rolle des Lagers beim Zwangsarbeitseinsatz, bei der Ghettoisierung und bei der Deportation der j&amp;uuml;dischen M&amp;uuml;nchner.&lt;/p&gt; &lt;p&gt;In Kooperation mit dem NS-Dokumentationszentrum M&amp;uuml;nchen.&lt;/p&gt;
DTSTART:20111118T190000
DTEND:20111118T203000
LOCATION:Volkshochschule Â· Troppauer Str. 10
ORGANIZER:MVHS München Mitte   
END:VEVENT
END:VCALENDAR