BEGIN:VCALENDAR
VERSION:2.0
PRODID:-//Stadtgeschichte München//DE
CALSCALE:GREGORIAN
BEGIN:VEVENT
UID:12670@stadtgeschichte-muenchen.de
SUMMARY:Schöner Wohnen für Alle Neuperlach und die Messestadt Riem
DESCRIPTION:&lt;p&gt;Die Planer sind begeistert, Kritiker und Münchnerinnen irritiert: Neuperlach, der Stadtteil vom Reißbrett, polarisiert seit seiner Grundsteinlegung. Zu hässlich, zu anonym, zu g,au - lautet das gängige Urteil. Wie lebt es sich heute in dem Stein gewordenen Utopia, das einmal für die Radikalität der 1960er Jahre stand? - In der Messestadt Riem waren Schule und U-Bahn fertig, bevor die ersten Bewohner einzogen. Für die soziale Mischung war gesorgt, der Buga-Park grenzt an das Quartier - und doch macht sich heute Ernüchterung breit. Warum liegen zwischen dem guten Willen der Planer und der gebauten Realität oft Welten?&lt;/p&gt; &lt;p&gt;Anschließend Filmgespräch mit Helmut Steyerer, Architekt, Münchner Forum e. V. Obergiesing&lt;/p&gt; &lt;p&gt;Für Senioren · Helmut Steyerer; Architekt, Münchner Forum e. V.&amp;nbsp;&lt;/p&gt; 
DTSTART:20170512T140000
DTEND:20170512T170000
LOCATION:Stadtbibliothek Giesing · Deisenhofener Str. 20
ORGANIZER:MVHS
END:VEVENT
END:VCALENDAR