BEGIN:VCALENDAR
VERSION:2.0
PRODID:-//Stadtgeschichte München//DE
CALSCALE:GREGORIAN
BEGIN:VEVENT
UID:12678@stadtgeschichte-muenchen.de
SUMMARY:König Ludwig II. von Bayern „Ein ewig Rätsel will ich bleiben“
DESCRIPTION:&lt;p&gt;Vor etwa 150 Jahren, am 10. März 1864 wurde der erst 18-jährige Ludwig zum vierten König von Bayern gekrönt. Von Anfang an engagierte er sich für die Förderung der Kultur, insbesondered es Komponisten Richard Wagner. Als „Märchen- und Mondkönig&quot; ging der überaus populäre König Ludwig II. von Bayern (1845-1886) in die Geschichte ein. Die Nachwelt verbindet mit ihm vor allem seine Schlösser, und obwohl er zum Schluss nur noch selten in München anwesend war, hat er auch hier seine Spuren hinterlassen.&lt;/p&gt; 
DTSTART:20170927T183000
DTEND:20170927T200000
LOCATION:MVHS am Scheidplatz · Belgradstr. 108
ORGANIZER:MVHS München Nord
END:VEVENT
END:VCALENDAR