BEGIN:VCALENDAR
VERSION:2.0
PRODID:-//Stadtgeschichte München//DE
CALSCALE:GREGORIAN
BEGIN:VEVENT
UID:12700@stadtgeschichte-muenchen.de
SUMMARY:.,Das schlägt dem Fass den Boden aus&quot;
DESCRIPTION:&lt;p&gt;„Eine Eselsbrücke bauen&quot; oder„ Das schlägt dem Fass den Boden aus&quot; -wer kennt diese Redensartenn icht. Aber wo in München geht der Esel über die Brücke? Und wer zertrümmert ein Fass und verschwendet damit kostbaren Wein? Wir erklären gebräuchliche Redewendungen, die alle aus dem Mittelalter stammen, und die Sie heute noch oft verwenden. Der Rundgang führt Sie an Orte, an denen die Entwicklung der Stadt einen unmittelbaren Bezug zum Ursprung dieser Redensarten hat.&lt;/p&gt; 
DTSTART:20170716T110000
DTEND:20170716T123000
LOCATION:lsartor, Innenhof· lsartorplatz
ORGANIZER:MVHS München Mitte   
END:VEVENT
END:VCALENDAR