BEGIN:VCALENDAR
VERSION:2.0
PRODID:-//Stadtgeschichte München//DE
CALSCALE:GREGORIAN
BEGIN:VEVENT
UID:12717@stadtgeschichte-muenchen.de
SUMMARY:Heut fahr\'n wir mit der Tram
DESCRIPTION:&lt;p&gt;Auf unserer Tour benutzen wir die Tram, wie sie liebevoll von den Münchnern genannt wird. Bequem erreichen wir ganz unterschiedliche Stadtteile, um diese mit einem Spaziergang zu erkunden: von &amp;nbsp;der Altstadt zum kultigen Gärtnerplatzviertel, dann nach Haidhausen, dem ehemaligen „Glasscherbenviertel&quot;u, nd als krönenden Abschluss&amp;nbsp;ins königliche München.&lt;/p&gt; &lt;p&gt;Eine kurzweilige Führung mit ein bisschen Nostalgie.&lt;/p&gt; 
DTSTART:20170505T150000
DTEND:20170505T170000
LOCATION:Karlsplatz/Stachus  Unter dem Karlstor
ORGANIZER:MVHS München Mitte   
END:VEVENT
END:VCALENDAR