BEGIN:VCALENDAR
VERSION:2.0
PRODID:-//Stadtgeschichte München//DE
CALSCALE:GREGORIAN
BEGIN:VEVENT
UID:1272@stadtgeschichte-muenchen.de
SUMMARY:Das neue kulturelle Zentrum für das Hasenbergl und die Nordhaide
DESCRIPTION:&lt;p&gt;Das neue kulturelle Zentrum f&amp;uuml;r das Hasenbergl und die Nordhaide &amp;ndash; Baustellenf&amp;uuml;hrung Im Juli wurde das Richtfest f&amp;uuml;r das neue kulturelle Zentrum direkt an der U-Bahn-Haltestelle Hasenbergl gefeiert. F&amp;uuml;r die B&amp;uuml;rger/innen des Hasenbergls und der Nordhaide entsteht hier in unmittelbarer Nachbarschaft ein attraktives Angebot. Eine gro&amp;szlig;e Mittelpunktsbibliothek erstreckt sich &amp;uuml;ber zwei Etagen, die M&amp;uuml;nchner Volkshochschule wird im zweiten Obergeschoss ein breites Veranstaltungsspektrum f&amp;uuml;r alle Bev&amp;ouml;lkerungsgruppen anbieten, und im dritten Obergeschoss laden der Kulturverein &amp;bdquo;Stadtteilkultur 2411&amp;ldquo;, ein gro&amp;szlig;er B&amp;uuml;rgersaal mit B&amp;uuml;hne und Gruppenr&amp;auml;ume zur aktiven Teilnahme ein.&lt;br /&gt; Auf dieser Baustellenf&amp;uuml;hrung mit Architekten und den zuk&amp;uuml;nftigen Nutzern k&amp;ouml;nnen Sie einen ersten Eindruck bekommen. Bitte auf festes Schuhwerk achten; falls vorhanden, Sicherheitsschuhe tragen.&lt;/p&gt; &lt;p&gt;Projekt- und Bauleitung/Kulturreferat/M&amp;uuml;nchner Volkshochschule/Stadtbibliothek/evtl. weitere Nutzer&amp;nbsp;&lt;/p&gt;
DTSTART:20111022T093000
DTEND:20111022T110000
LOCATION:Baustellenbüro in der Blodigstr.
ORGANIZER:MVHS München Mitte   
END:VEVENT
END:VCALENDAR