BEGIN:VCALENDAR
VERSION:2.0
PRODID:-//Stadtgeschichte München//DE
CALSCALE:GREGORIAN
BEGIN:VEVENT
UID:12728@stadtgeschichte-muenchen.de
SUMMARY:Die Münchner Au
DESCRIPTION:&lt;p&gt;Obwohl die Au erst im Jahre 1854 eingemeindet wird, entwickelt sich bereits im 14. Jahrhundert entlang der Lilienstraße das erste Industriegebiet Münchens: Unter Kurfürst Ferdinand Maria wird im 17. Jahrhunderte in Seidenhause rrichtet und im Armenhaus von Benjamin Thompson wird die Rumford-Suppe erfunden. 1882 kommt Karl Valentin in der Zeppelinstraße zur Welt und rund 50 Jahre später wird exakt im selben Haus das „schönste Auto der Welt&quot; fabriziert. Wir lernen den „Auer Bären&quot; kennen und lüften das Geheimnis des „Birnbaums in der Au&quot;.&lt;/p&gt; 
DTSTART:20170920T160000
DTEND:20170920T173000
LOCATION:Museum Lichtspiele · Lilienstr. 2
ORGANIZER:MVHS München Mitte   
END:VEVENT
END:VCALENDAR