BEGIN:VCALENDAR
VERSION:2.0
PRODID:-//Stadtgeschichte München//DE
CALSCALE:GREGORIAN
BEGIN:VEVENT
UID:12732@stadtgeschichte-muenchen.de
SUMMARY:Das Schlachthofviertel
DESCRIPTION:&lt;p&gt;Im 19. Jahrhundert entsteht im Süden Münchens das Schlachthofviertel. Lange Zeit fordert die Cholera hohe Opferzahlen. In Folge der Seuche wurde 1876 bis 1878 der damals modernste Schlacht-und Viehhof Europas nach den Plänen von Arnold Zenetti und dem Hygieneforscher Max von Pettenkofer erbaut. Keimzelle der Anlage war der Münchner Südbahnhof, der die Steuerung des Tiertransports ermöglichte. Seit 2007 wird der Viehhof nicht mehr als solcher genutzt und Kulturschaffende haben sich angesiedelt. Entdecken Sie ein Stadtviertel mit ganz eigenwilligem Charakter.&lt;/p&gt; 
DTSTART:20170421T110000
DTEND:20170421T123000
LOCATION:Lindwurmstr./Zenettistr. 
ORGANIZER:MVHS München Mitte   
END:VEVENT
END:VCALENDAR