BEGIN:VCALENDAR
VERSION:2.0
PRODID:-//Stadtgeschichte München//DE
CALSCALE:GREGORIAN
BEGIN:VEVENT
UID:12734@stadtgeschichte-muenchen.de
SUMMARY:Entlang des Westermühlbaches
DESCRIPTION:&lt;p&gt;Die Geschichte Münchens ist seit dem 12. Jahrhundert geprägt von der Isar und den Stadtbächen. Der Westermühlbach war der Ursprung für alle anderen Stadtbäche und ist heute der einzige stellenweise noch offen fließende Stadtbach im Süden Münchens - links der Isar. Er erzählt uns von der Abhängigkeit der Bürgerschaft vom Wasser, der Bedeutung für die Mühlen, für das Handwerk und die wirtschaftliche Entwicklung Münchens.&lt;/p&gt; 
DTSTART:20170618T140000
DTEND:20170618T160000
LOCATION:Sendlinger Tor, unter dem Torbogen
ORGANIZER:MVHS München Mitte   
END:VEVENT
END:VCALENDAR