BEGIN:VCALENDAR
VERSION:2.0
PRODID:-//Stadtgeschichte München//DE
CALSCALE:GREGORIAN
BEGIN:VEVENT
UID:12736@stadtgeschichte-muenchen.de
SUMMARY:Vergessene Münchnerinnen
DESCRIPTION:&lt;p&gt;Der Alte Südfriedhofw ird gerne als das GeschichtsbuchM ünchens bezeichnet. Er ist ein sehr männliches Buch: Auf den meisten Grabmälern sind Frauen nur als Gattin, Tochter oder Witwe genannt, wie die „ Rentierstochter&quot; oder die „ Hofpianofortefabrikantenswittwe&quot;. Bei einem Spaziergangd urch die grüne Oasem itten in der Stadt lernen Sie Frauen näher kennen, die mehr waren: geistvolle, erfolgreiche, mutige Frauen, die für München sozial, wirtschaftlich und künstlerisch mehr als bedeutsam waren.&lt;/p&gt; 
DTSTART:20170730T140000
DTEND:20170730T153000
LOCATION:Eingang Alter Südfriedhof · Stephansplatz
ORGANIZER:MVHS München Mitte   
END:VEVENT
END:VCALENDAR