BEGIN:VCALENDAR
VERSION:2.0
PRODID:-//Stadtgeschichte München//DE
CALSCALE:GREGORIAN
BEGIN:VEVENT
UID:12754@stadtgeschichte-muenchen.de
SUMMARY:Straßennamen im Münchner Norden
DESCRIPTION:&lt;p&gt;Seit 1945 wurden im Münchner Norden über 70 Persönlichkeiten, die Verfolgte oder Gegner des NS-Regimes waren, durch die Benennung von Straßen geehrt, z.B. der Curt-Mezger-Platz, die Freudstraße oder der Scheidplatz. Sie werden in der Ausstellung vorgestellt. Die Entscheidung darüber, wer geehrt werden soll, fällt im Stadtrat und wird manchmal kontrovers diskutiert. Der Vortrag eines Experten, der daran seit 1972 beteiligt ist, erläutert die Praxis und die Hintergründe der Benennnungen.&lt;/p&gt; &lt;p&gt;In Kooperation mit dem KulturhistorischenV erein Feldmochinga uf dem Gfild e. V und dem Kulturreferat der Landeshauptstadt München.&lt;/p&gt; 
DTSTART:20170316T180000
DTEND:20170316T193000
LOCATION:Volkshochschule · Kulturzentrum 2411 · Blodigstr. 4
ORGANIZER:MVHS München Nord
END:VEVENT
END:VCALENDAR