BEGIN:VCALENDAR
VERSION:2.0
PRODID:-//Stadtgeschichte München//DE
CALSCALE:GREGORIAN
BEGIN:VEVENT
UID:12765@stadtgeschichte-muenchen.de
SUMMARY:Verkehrskonzept für den Münchner Norden
DESCRIPTION:&lt;p&gt;Das Verkehrsnetz im Münchner Norden ist bereits heute teilweise überlastet. Geplante Siedlungsentwicklungen wie z.B. in der BayernKaserne und der Kronprinz-Rupprecht-Kasaerne werden das Verkehrsaufkommen weiter erhöhen. Der Stadtrat hatte im Jahr 2014 ein umfangreichesK onzept beschlossen, mit dem dieses Verkehrsaufkommen stadtverträglich bewältigt werden soll. Am 20.9. wird ein Mitarbeiter des Referatsf ür Stadtplanung und Bauordnung den aktuellen Stand der Entwicklungen vorstellen.&lt;/p&gt; &lt;p&gt;In Kooperation mit dem Referat für Stadtplanung und Bauordnung.&lt;/p&gt; &lt;p&gt;Robert Adam, Referat für Stadtplanung und Bauordnung&lt;/p&gt; 
DTSTART:20170920T190000
DTEND:20170920T210000
LOCATION:Volkshochschule · Kulturzentrum 2411 · Blodigstr. 4
ORGANIZER:MVHS München Nord
END:VEVENT
END:VCALENDAR