BEGIN:VCALENDAR
VERSION:2.0
PRODID:-//Stadtgeschichte München//DE
CALSCALE:GREGORIAN
BEGIN:VEVENT
UID:12767@stadtgeschichte-muenchen.de
SUMMARY:„Wohnen für alle
DESCRIPTION:&lt;p&gt;Neue Wege beim Wohnungsbau geht die städtische Gewofag GmbH mit einem Neubau am Dantebad. In einem Stelzenbau, der sich über dem Parkplatz erhebt, wurden in nur wenigen Monaten Bauzeit 100 neue Wohnungen errichtet. Die Apartments werden je zur Hälfte als geförderte Wohnungen und an anerkannte Flüchtlinge vergeben. Gemeinschaftsräume auf jeder Etage und ein Dachgarten sollen Begegnungen der Bewohnerinnen und Bewohner untereinander und mit den Nachbarn ermöglichen. Das Projekt ist das erste des Programms „Wohnen für alle&quot;, das mehr Wohnraum für Menschen mit geringem Einkommen schaffen soll.&lt;/p&gt; &lt;p&gt;In Kooperation mit der Gewofag GmbH.&lt;/p&gt; &lt;p&gt;Michael Hardi, Gewofag GmbH&lt;/p&gt; 
DTSTART:20170503T170000
DTEND:20170503T180000
LOCATION:vor dem Dantebad · Postillonstr. 17
ORGANIZER:MVHS München Nord
END:VEVENT
END:VCALENDAR