BEGIN:VCALENDAR
VERSION:2.0
PRODID:-//Stadtgeschichte München//DE
CALSCALE:GREGORIAN
BEGIN:VEVENT
UID:12768@stadtgeschichte-muenchen.de
SUMMARY:Staatliches Gymnasium München-Nord
DESCRIPTION:&lt;p&gt;Zum Schuljahr 2016/17 hat das neue Gymnasium an der Knorrstraße eröffnet. Durch eine klar gegliederte Baukörperstruktur mit zwei- und dreigeschossigen Gebäuden fügt sich die Schule städtebaulich gut in das heterogene Umfeld ein. Das Foyer mit Aula im Zentralgebäude und die drei Lernhäuser haben einen schönen Außenraumbezug. Die vielfältigen Freiflächen bieten Sportgeräten, einer Boulderwand und Kunstobjekten Platz. Als „Eliteschule des Sports&quot; wird es in jedem Jahrgange ine Leistungssporktlasse geben. Die Führung stellt das Gebäude und das Konzept der Schule vor.&lt;/p&gt; &lt;p&gt;Leonhard Baur, Schulleiter/ Barbara Spierer, Referat für Bildung und Sport&lt;/p&gt; 
DTSTART:20170331T140000
DTEND:20170331T153000
LOCATION:Gymnasium München-Nord · Knorrstr. 171 (vor dem Eingang) 
ORGANIZER:MVHS München Nord
END:VEVENT
END:VCALENDAR