BEGIN:VCALENDAR
VERSION:2.0
PRODID:-//Stadtgeschichte München//DE
CALSCALE:GREGORIAN
BEGIN:VEVENT
UID:12777@stadtgeschichte-muenchen.de
SUMMARY:Verkehrsrechnerzentrale Südbayern
DESCRIPTION:&lt;p&gt;Von der Verkehrsrechnerzentrale Süddbayernin Freimann werden die Schilderbrücken über den Autobahnen, die Wechselverkehrszeichen und die Wechselwegweisungen für den Bereich Südbayerng esteuert. Durch diese Verkehrsleitanlagen sind auf bestimmten Autobahnabschnitten die Unfallzahlen um ca. 30 Prozent zurückgegangen. Sie erfahren bei der Veranstaltung, wie mit Hilfe von Videoüberwachung, Sensoren und Witterungsdaten das Verkehrsgeschehen&amp;nbsp;regelt wird.&lt;/p&gt; 
DTSTART:20170913T141500
DTEND:20170913T160000
LOCATION:U6 Kieferngarten, Ausgang Busbahnhof
ORGANIZER:MVHS München Nord
END:VEVENT
END:VCALENDAR