BEGIN:VCALENDAR
VERSION:2.0
PRODID:-//Stadtgeschichte München//DE
CALSCALE:GREGORIAN
BEGIN:VEVENT
UID:12782@stadtgeschichte-muenchen.de
SUMMARY:Kaffeerösterei H. Schneid oHG
DESCRIPTION:&lt;p&gt;Den Weg des Kaffees von der gepflückten Bohne bis zur Tasse Kaffee erleben Sie in der Kaffeerösterei H. Schneid oHG in Feldmoching.&amp;nbsp;Die Langzeitröstung auf einem Trommelröster wird durch den Röstmeister Manfred Schneider vorgeführt und erläutert, außerdem&amp;nbsp;erfahren Sie die Geschichte des Kaffees, seines Ursprungs und die&amp;nbsp;Herkunftsländer des Rohkaffees.&lt;/p&gt; 
DTSTART:20170427T160000
DTEND:20170427T183000
LOCATION:Kaffeerösterei H. Schneid, Feldmochinger Str. 378
ORGANIZER:MVHS München Nord
END:VEVENT
END:VCALENDAR