BEGIN:VCALENDAR
VERSION:2.0
PRODID:-//Stadtgeschichte München//DE
CALSCALE:GREGORIAN
BEGIN:VEVENT
UID:1280@stadtgeschichte-muenchen.de
SUMMARY:Knorr-Bremse
DESCRIPTION:&lt;p&gt;Der Knorr-Bremse-Konzern, der seit mehr als 60 Jahren seinen Sitz im M&amp;uuml;nchner Norden hat, ist weltweit der f&amp;uuml;hrende Hersteller von Bremssystemen f&amp;uuml;r Schienen- und Nutzfahrzeuge. Mit &amp;uuml;ber 12 700 Mitarbeitern an &amp;uuml;ber 60 Standorten in 25 L&amp;auml;ndern, davon 1500 in M&amp;uuml;nchen, treibt das Unternehmen als technologischer Schrittmacher seit &amp;uuml;ber hundert Jahren ma&amp;szlig;geblich Entwicklung, Produktion&lt;br /&gt; und den Vertrieb modernster Bremssysteme voran. Die Betriebsbesichtigung vermittelt einen &amp;Uuml;berblick &amp;uuml;ber die Unternehmensziele, das Produktportfolio sowie die Produktion.&lt;/p&gt;
DTSTART:20120208T133000
DTEND:20120208T160000
LOCATION:Knorr-Bremse, Pforte West, Am Oberwiesenfeld 
ORGANIZER:MVHS München Mitte   
END:VEVENT
END:VCALENDAR