BEGIN:VCALENDAR
VERSION:2.0
PRODID:-//Stadtgeschichte München//DE
CALSCALE:GREGORIAN
BEGIN:VEVENT
UID:12805@stadtgeschichte-muenchen.de
SUMMARY:Das Notfallzentrum im Klinikum Schwabing
DESCRIPTION:&lt;p&gt;Werfen Sie einen besonders spannenden Blick hinter die Kulissen eines Krankenhausesu nd lernen das überregionale Traumazentrum im Klinikum Schwabing näher kennen. Wie kommen Verletzte vom Dach des Gebäudes aus dem Hubschrauber in den Schockraum, wie schnell geht das, welche Ärzte und pflegekräfte sind bei der Behandlung beteiligt, wie sieht der Alltag eines Notfallarztes aus, wie werden hier täglich Leben gerettet und was bedeutet es, wenn es wirklich um Sekunden geht? Diese und andere Fragen beantworten die Experten für Sie vor Ort.&lt;/p&gt; 
DTSTART:20170517T130000
DTEND:20170517T143000
LOCATION:Klinikum Schwabing· Eingangshalle· Kölner Platz 1 
ORGANIZER:MVHS München Nord
END:VEVENT
END:VCALENDAR