BEGIN:VCALENDAR
VERSION:2.0
PRODID:-//Stadtgeschichte München//DE
CALSCALE:GREGORIAN
BEGIN:VEVENT
UID:1281@stadtgeschichte-muenchen.de
SUMMARY:MAN Nutzfahrzeuge AG
DESCRIPTION:&lt;p&gt;Ein Gro&amp;szlig;betrieb wie die Maschinenfabrik Augsburg-N&amp;uuml;rnberg (gegr&amp;uuml;ndet 1840), aus der die Aktiengesellschaft und sp&amp;auml;ter der Konzern MAN erwuchs, ist einerseits als Arbeitgeber und Steuerzahler wichtig f&amp;uuml;r die Stadt und ihre Bewohner/innen, andererseits bringt ein Gro&amp;szlig;betrieb wie dieser auch Beeintr&amp;auml;chtigungen f&amp;uuml;r die umliegenden Wohngebiete mit sich. Die F&amp;uuml;hrung durch das Werk M&amp;uuml;nchen, in dem im Jahr rund 32 000 Lkw gefertigt werden, soll dazu beitragen, den Nachbarn die Gro&amp;szlig;industrie mit ihren Produktionsanlagen und den damit verbundenen Einfl&amp;uuml;ssen auf das Umfeld n&amp;auml;herzubringen.&lt;/p&gt;
DTSTART:20111123T090000
DTEND:20111123T103000
LOCATION:MAN Truck Forum, Dachauer Str. 667 
ORGANIZER:MVHS München Mitte   
END:VEVENT
END:VCALENDAR