BEGIN:VCALENDAR
VERSION:2.0
PRODID:-//Stadtgeschichte München//DE
CALSCALE:GREGORIAN
BEGIN:VEVENT
UID:12813@stadtgeschichte-muenchen.de
SUMMARY:Mit dem Lehm fing es an
DESCRIPTION:&lt;p&gt;1342 verfügte Kaiser Ludwig der Bayer, dass zukünftig zumindest für die Dächer neuer Gebäude in München gebrannte Ziegel zu verwenden seien. Der Lehm für Dach-und Mauerziegel kommt zunächst aus Haidhausen. 60 Ziegelstadel zählt man dort 1475. Auch die Ziegel der Frauenkirche wurden aus dem Lehm der „Grube&quot; an der heutigen Einsteinstraßeg ewonnen. Im Verlauf der Jahrhundertew andert • der Ziegelabbau zunehmend in Richtung Nordosten. Nach einer Stadtteilführung auf den Spuren der Ziegler geht es per Tram zur „Alten Ziegelei&quot; in Oberföhring, wo ein Trockenstadeul nd ein Maschinenhaus noch die Ziegelproduktion des frühen 20. Jahrhunderts veranschaulichen. Zum Abschluss gibt es Kaffee und Kuchen im MVHS-StadtteilzentrumA rabellapark.&lt;/p&gt; &lt;p&gt;Bitte MVG-Karte mitbringen&lt;/p&gt; 
DTSTART:20170308T140000
DTEND:20170308T170000
LOCATION:Einstein 28 - Foyer· Einsteinstr . 28
ORGANIZER:MVHS München Ost
END:VEVENT
END:VCALENDAR