BEGIN:VCALENDAR
VERSION:2.0
PRODID:-//Stadtgeschichte München//DE
CALSCALE:GREGORIAN
BEGIN:VEVENT
UID:12815@stadtgeschichte-muenchen.de
SUMMARY:50 Jahre Grundsteinlegung Neuperlach
DESCRIPTION:&lt;p&gt;Zwei prägnante Prinzipien Neuperlachs sind die dezentrale Anlage des vor 50 Jahren begonnenen Stadtteils und die konsequente Trennung von Autoverkehr und Fusswegen. Vom Karl-Marx-Zentrum flanieren wir ungestört über die Ständlerstraßed urch das Sudermannzentrum und über den Hanns-Seidel-Platz „der Sonne entgegen&quot; in den Wohnring und nach Altperlach. Große Skandale und kleine Anekdoten: ein kulturgeschichtlicher Spaziergang mit Ausblicken auf gegenwärtige Begehrlichkeiten und abschließender Möglichkeit zur Einkehr. •&lt;/p&gt; &lt;p&gt;Gebührenfrei im Rahmen „50 Jahre Neuperlach&quot;&lt;/p&gt; 
DTSTART:20170514T110000
DTEND:20170514T130000
LOCATION:Glockenturm St. Monika · Max-Kolmsperger Str. 7
ORGANIZER:MVHS München Ost
END:VEVENT
END:VCALENDAR